BEGIN:VCALENDAR
VERSION:2.0
PRODID:-//ChamberMaster//Event Calendar 2.0//EN
METHOD:PUBLISH
X-PUBLISHED-TTL:P3D
REFRESH-INTERVAL:P3D
CALSCALE:GREGORIAN
BEGIN:VEVENT
DTSTART:20190414T010000Z
DTEND:20190414T040000Z
X-MICROSOFT-CDO-ALLDAYEVENT:FALSE
SUMMARY:Gabriel "Fluffy" Iglesias - The Broadmoor World Arena
DESCRIPTION:
X-ALT-DESC;FMTTYPE=text/html:
LOCATION:The Broadmoor World Arena 3185 Venetucci Boulevard Colorado Springs\, Colorado
UID:e.3452.11
SEQUENCE:3
DTSTAMP:20260423T231823Z
URL:https://members.cshispanicchamber.com/events/details/gabriel-fluffy-iglesias-the-broadmoor-world-arena-11
END:VEVENT

END:VCALENDAR
