BEGIN:VCALENDAR
VERSION:2.0
PRODID:-//ChamberMaster//Event Calendar 2.0//EN
METHOD:PUBLISH
X-PUBLISHED-TTL:P3D
REFRESH-INTERVAL:P3D
CALSCALE:GREGORIAN
BEGIN:VEVENT
DTSTART:20190516T140000Z
DTEND:20190516T153000Z
X-MICROSOFT-CDO-ALLDAYEVENT:FALSE
SUMMARY:Concilio Business Breakfast
DESCRIPTION:CASA of the Pikes Peak Region will host a business breakfast for Concilio Members and friends. CASA will present their work and programs as part of the business breakfast.
X-ALT-DESC;FMTTYPE=text/html:CASA of the Pikes Peak Region will host a business breakfast for Concilio Members and friends. CASA will present their work and programs as part of the business breakfast.
LOCATION:CASA of the Pikes Peak Region 418 S. Weber Street
UID:e.3452.15
SEQUENCE:3
DTSTAMP:20260423T215344Z
URL:https://members.cshispanicchamber.com/events/details/concilio-business-breakfast-15
END:VEVENT

END:VCALENDAR
